BEGIN:VCALENDAR
PRODID:-//eluceo/ical//2.0/EN
VERSION:2.0
CALSCALE:GREGORIAN
BEGIN:VEVENT
UID:b5f1b7ce88b3344dc4a139559fb08d8d
DTSTAMP:20260419T235911Z
SUMMARY:Sukkot Federation/Foundation Offices Closed
DESCRIPTION:Jewish Long Beach\nCalendar\nhttps://jewishlongbeach.org/calend
 ar/sukkot-federationfoundation-offices-closed\n\nFederation/Foundation Clo
 sed
DTSTART;TZID=America/Los_Angeles:20171005T000000
DTEND;TZID=America/Los_Angeles:20171005T171600
END:VEVENT
END:VCALENDAR
