BEGIN:VCALENDAR
PRODID:-//eluceo/ical//2.0/EN
VERSION:2.0
CALSCALE:GREGORIAN
BEGIN:VEVENT
UID:ee17506a022565a1e79d5f65ff7032e0
DTSTAMP:20260422T143038Z
SUMMARY:Sukkot II Federation/Foundation Offices Closed
DESCRIPTION:Jewish Long Beach\nCalendar\nhttps://jewishlongbeach.org/calend
 ar/sukkot-ii-federationfoundation-offices-closed\n\nFederation/Foundation 
 Closed
DTSTART;TZID=America/Los_Angeles:20171006T000000
DTEND;TZID=America/Los_Angeles:20171006T171600
END:VEVENT
END:VCALENDAR
