BEGIN:VCALENDAR
PRODID:-//eluceo/ical//2.0/EN
VERSION:2.0
CALSCALE:GREGORIAN
BEGIN:VEVENT
UID:36bf3cc13cc964d08f77226aead1ee56
DTSTAMP:20260419T212436Z
SUMMARY:Super Sunday
DESCRIPTION:Jewish Long Beach\nCalendar\nhttps://jewishlongbeach.org/calend
 ar/super-sunday-2018\n\n2018 Campaign Super Sunday
DTSTART;TZID=America/Los_Angeles:20171203T090000
DTEND;TZID=America/Los_Angeles:20171203T130000
END:VEVENT
END:VCALENDAR
