BEGIN:VCALENDAR
PRODID:-//eluceo/ical//2.0/EN
VERSION:2.0
CALSCALE:GREGORIAN
BEGIN:VEVENT
UID:12aa3b734473dff2a6b832d43d5df70c
DTSTAMP:20260424T142349Z
SUMMARY:TBS Family Shabbat Dinner & Service
DESCRIPTION:Jewish Long Beach\nCalendar\nhttps://jewishlongbeach.org/calend
 ar/tbs-family-shabbat-dinner--service-1505247647\n\nJoin us for our Family
  Shabbat.  This month it's a Kugel-Pal-Oozah dinner @ 6pm followed by an
  early evening Shabbat service @ 7:15pm led by our Torah School students.
   Reservations for dinner & Donations happily accepted.
DTSTART;TZID=America/Los_Angeles:20171020T180000
DTEND;TZID=America/Los_Angeles:20171020T203000
END:VEVENT
END:VCALENDAR
