BEGIN:VCALENDAR
PRODID:-//eluceo/ical//2.0/EN
VERSION:2.0
CALSCALE:GREGORIAN
BEGIN:VEVENT
UID:931806b1f150e01a7c999ffc185fc4d0
DTSTAMP:20260419T163758Z
SUMMARY:Temple Beth Shalom Hanukkah Dinner
DESCRIPTION:Jewish Long Beach\nCalendar\nhttps://jewishlongbeach.org/calend
 ar/temple-beth-shalom-hanukkah-dinner-1505247172\n\nHanukkah Dinner:\n\n 
          Bring the family and your favorite menorah and join us fo
 r our annual Hanukkah Dinner and festival of light at TBS!\n\n      
     Please download your reservation form today at www.tbslb.org to joi
 n us!
DTSTART;TZID=America/Los_Angeles:20171217T180000
DTEND;TZID=America/Los_Angeles:20171217T210000
END:VEVENT
END:VCALENDAR
