BEGIN:VCALENDAR
PRODID:-//eluceo/ical//2.0/EN
VERSION:2.0
CALSCALE:GREGORIAN
BEGIN:VEVENT
UID:8cdc4551483bc2cebda6d8c88b3bd0b9
DTSTAMP:20260422T145458Z
SUMMARY:Temple Israel Sisterhood Game Day 2018
DESCRIPTION:Jewish Long Beach\nCalendar\nhttps://jewishlongbeach.org/calend
 ar/temple-israel-sisterhood-game-day-2018\n\n$36 includes snacks\, lunch\,
  dessert\, and beverages. Bring your own Mahjong set and other game boards
  you'd like.
DTSTART;TZID=America/Los_Angeles:20180424T093000
DTEND;TZID=America/Los_Angeles:20180424T143000
END:VEVENT
END:VCALENDAR
