BEGIN:VCALENDAR
PRODID:-//eluceo/ical//2.0/EN
VERSION:2.0
CALSCALE:GREGORIAN
BEGIN:VEVENT
UID:25491a199931c7df055a474e4fe4d45e
DTSTAMP:20260423T132254Z
SUMMARY:Temple Israel Sisterhood: Speaker on Elder Abuse
DESCRIPTION:Jewish Long Beach\nCalendar\nhttps://jewishlongbeach.org/calend
 ar/temple-israel-sisterhood-speaker-on-elder-abuse\n\nTemple Israel Sister
 hood will present a speaker from HEART - Holistic Elder Abuse Response Tea
 m. HEART provides elders with knowledge and skills to protect themselves f
 rom financial\, physical and emotional abuse.
DTSTART;TZID=America/Los_Angeles:20200112T130000
DTEND;TZID=America/Los_Angeles:20200112T150000
END:VEVENT
END:VCALENDAR
