BEGIN:VCALENDAR
PRODID:-//eluceo/ical//2.0/EN
VERSION:2.0
CALSCALE:GREGORIAN
BEGIN:VEVENT
UID:69f6203a2dc537d78466413f9e7f1f83
DTSTAMP:20260419T143239Z
SUMMARY:Thanksgiving Federation/Foundation Offices Closed
DESCRIPTION:Jewish Long Beach\nCalendar\nhttps://jewishlongbeach.org/calend
 ar/thanksgiving-federationfoundation-offices-closed\n\nFederation/Foundati
 on Closed
DTSTART;TZID=America/Los_Angeles:20171123T000000
DTEND;TZID=America/Los_Angeles:20171123T171800
END:VEVENT
END:VCALENDAR
