BEGIN:VCALENDAR
PRODID:-//eluceo/ical//2.0/EN
VERSION:2.0
CALSCALE:GREGORIAN
BEGIN:VEVENT
UID:25dd4092ae468b2101252a8372b6efb6
DTSTAMP:20260419T142529Z
SUMMARY:The Braid presents: True Colors
DESCRIPTION:Jewish Long Beach\nCalendar\nhttps://jewishlongbeach.org/calend
 ar/the-braid-presents-true-colors-1678130932\n\nTRUE COLORS\, is a salon t
 heatre show in which Jews of Color share true stories about their yearning
  for belonging and the rich and complicated question that is identity. Whi
 le all people face challenges and struggles\, Jews of Color have many touc
 hing and unique stories to tell about resilience\, self-respect\, and cele
 brating the many colors and voices in our community. Funny\, poignant\, an
 d deeply inspiring stories!
DTSTART;TZID=America/Los_Angeles:20230319T140000
DTEND;TZID=America/Los_Angeles:20230319T160000
END:VEVENT
END:VCALENDAR
