BEGIN:VCALENDAR
PRODID:-//eluceo/ical//2.0/EN
VERSION:2.0
CALSCALE:GREGORIAN
BEGIN:VEVENT
UID:7112bf617145b0a229060bf793ffe703
DTSTAMP:20260422T052313Z
SUMMARY:The Middle East and the Trump Administration
DESCRIPTION:Jewish Long Beach\nCalendar\nhttps://jewishlongbeach.org/calend
 ar/the-middle-east-and-the-trump-administration-1502836137\n\nCSULB Jewish
  Studies Lecture\n\nDr. Steven Spiegel speak on "The Middle East and the T
 rump Administration."
DTSTART;TZID=America/Los_Angeles:20171009T193000
DTEND;TZID=America/Los_Angeles:20171009T210000
END:VEVENT
END:VCALENDAR
