BEGIN:VCALENDAR
PRODID:-//eluceo/ical//2.0/EN
VERSION:2.0
CALSCALE:GREGORIAN
BEGIN:VEVENT
UID:078577e27218069c613f5011cef897a7
DTSTAMP:20260419T203524Z
SUMMARY:Tikkun Leil Shavu'ot
DESCRIPTION:Jewish Long Beach\nCalendar\nhttps://jewishlongbeach.org/calend
 ar/tikkun-leil-shavuot-1746579555\n\nWe look forward to seeing you for Tik
 kun Leil Shavu'ot!
DTSTART;TZID=America/Los_Angeles:20250601T183000
DTEND;TZID=America/Los_Angeles:20250601T223000
END:VEVENT
END:VCALENDAR
