BEGIN:VCALENDAR
PRODID:-//eluceo/ical//2.0/EN
VERSION:2.0
CALSCALE:GREGORIAN
BEGIN:VEVENT
UID:2f81f3c95a7759b4dadc23b42863f795
DTSTAMP:20260425T023459Z
SUMMARY:Tuesday Pooldays at the Mary Alpert Pool
DESCRIPTION:Jewish Long Beach\nCalendar\nhttps://jewishlongbeach.org/calend
 ar/tuesday-pooldays\n\nAlpert JCC Members of all ages are invited to enjoy
  swimming\, games\, frozen treats\, music\, giveaways\, and more!\n\n \n\
 nJoin us for themed pool parties on select days: \n\n7/2 – Party in the
  USA\n\n7/16 – Shalom\, Summer!\n\n8/6 – Family Flamingle\n\n8/20 – 
 The Last Splash\n\n \n\nCLICK HERE TO LEARN MORE
DTSTART;TZID=America/Los_Angeles:20240702T160000
DTEND;TZID=America/Los_Angeles:20240702T190000
END:VEVENT
END:VCALENDAR
