BEGIN:VCALENDAR
PRODID:-//eluceo/ical//2.0/EN
VERSION:2.0
CALSCALE:GREGORIAN
BEGIN:VEVENT
UID:f95c4677ab1279162ebebb33a53ec5d2
DTSTAMP:20260424T111955Z
SUMMARY:VIRTUAL Kehillah Leadership Council
DESCRIPTION:Jewish Long Beach\nCalendar\nhttps://jewishlongbeach.org/calend
 ar/virtual-kehillah-leadership-council\n\nMore infomration to follow
DTSTART;TZID=America/Los_Angeles:20200827T110000
DTEND;TZID=America/Los_Angeles:20200827T123000
END:VEVENT
END:VCALENDAR
