BEGIN:VCALENDAR
PRODID:-//eluceo/ical//2.0/EN
VERSION:2.0
CALSCALE:GREGORIAN
BEGIN:VEVENT
UID:f8093552dc88efe885a1f5afa02ec65d
DTSTAMP:20260421T174831Z
SUMMARY:Visions & Vino
DESCRIPTION:Jewish Long Beach\nCalendar\nhttps://jewishlongbeach.org/calend
 ar/visions-vino26\n\nWednesday | September 2 | 6 PM | Free (Suggested $10
  Donation)\n\nBack by Popular Demand!\n\nGet the new year started with a n
 ight out in connection and creativity! Create your Vision Board for an ama
 zing New Year! Led by Lauren Friedman. Light refreshments and wine include
 d.\n\nClick here to RSVP✂️\n\n \n\n \n\nDon’t know what a vision b
 oard is? Do not fret\, we’ll teach you. You’ll be an expert after this
  event. Come join others learning the “art” of vision boarding and cre
 a...
DTSTART;TZID=America/Los_Angeles:20260902T180000
DTEND;TZID=America/Los_Angeles:20260902T200000
END:VEVENT
END:VCALENDAR
