BEGIN:VCALENDAR
PRODID:-//eluceo/ical//2.0/EN
VERSION:2.0
CALSCALE:GREGORIAN
BEGIN:VEVENT
UID:7afe582150d9f29a2e56a12efe933967
DTSTAMP:20260422T215900Z
SUMMARY:Williger Shabbaton
DESCRIPTION:Jewish Long Beach\nCalendar\nhttps://jewishlongbeach.org/calend
 ar/williger-shabbaton-1712200388\n\nJoin us as we learn about Jews from ar
 ound the world!
DTSTART;TZID=America/Los_Angeles:20240517T193000
DTEND;TZID=America/Los_Angeles:20240519T180000
END:VEVENT
END:VCALENDAR
