BEGIN:VCALENDAR
PRODID:-//eluceo/ical//2.0/EN
VERSION:2.0
CALSCALE:GREGORIAN
BEGIN:VEVENT
UID:00fd505ba920ac8e1d88b3e38db1cbb7
DTSTAMP:20260423T131737Z
SUMMARY:"Women of VISION"
DESCRIPTION:Jewish Long Beach\nCalendar\nhttps://jewishlongbeach.org/calend
 ar/women-of-vision\n\n"Women of VISION"
DTSTART;TZID=America/Los_Angeles:20150323T190000
DTEND;TZID=America/Los_Angeles:20150323T210000
END:VEVENT
END:VCALENDAR
