BEGIN:VCALENDAR
PRODID:-//eluceo/ical//2.0/EN
VERSION:2.0
CALSCALE:GREGORIAN
BEGIN:VEVENT
UID:ad174bd6cf52b7ebb6435e1f654cc415
DTSTAMP:20260424T094423Z
SUMMARY:Women's Philanthrophy Retreat
DESCRIPTION:Jewish Long Beach\nCalendar\nhttps://jewishlongbeach.org/calend
 ar/womens-philanthrophy-retreat\n\nWomen's Philanthropy Retreat
DTSTART;TZID=America/Los_Angeles:20180729T093000
DTEND;TZID=America/Los_Angeles:20180729T120000
END:VEVENT
END:VCALENDAR
