BEGIN:VCALENDAR
PRODID:-//eluceo/ical//2.0/EN
VERSION:2.0
CALSCALE:GREGORIAN
BEGIN:VEVENT
UID:87f228e23cc38bccff61082f14bae20d
DTSTAMP:20260424T070153Z
SUMMARY:Women's Philanthropy Event
DESCRIPTION:Jewish Long Beach\nCalendar\nhttps://jewishlongbeach.org/calend
 ar/womens-philanthropy-Event\n\nNational\, Chairperson\, Wendy Abrams will
  be the guest speaker.\n\nLocation and more information to follow.
DTSTART;TZID=America/Los_Angeles:20180221T183000
DTEND;TZID=America/Los_Angeles:20180221T210000
END:VEVENT
END:VCALENDAR
