BEGIN:VCALENDAR
PRODID:-//eluceo/ical//2.0/EN
VERSION:2.0
CALSCALE:GREGORIAN
BEGIN:VEVENT
UID:f8719693b038e4f3fe3d7c0015bddab6
DTSTAMP:20260422T115956Z
SUMMARY:Women's Philanthropy Blue & White Party
DESCRIPTION:Jewish Long Beach\nCalendar\nhttps://jewishlongbeach.org/calend
 ar/womens-philanthropy-blue-white-party\n\nWomen’s Philanthropy invites 
 you to celebrate Chanukah with a fun evening featuring a latke bar\, “Do
 n’t Be Blue” drinks\, white chocolate desserts\, and good company.\n\n
  \n\n$10/per person. Please rsvp to Susan Paletz at spaletz@alpertjcc.or
DTSTART;TZID=America/Los_Angeles:20241219T180000
DTEND;TZID=America/Los_Angeles:20241219T200000
END:VEVENT
END:VCALENDAR
