BEGIN:VCALENDAR
PRODID:-//eluceo/ical//2.0/EN
VERSION:2.0
CALSCALE:GREGORIAN
BEGIN:VEVENT
UID:7dcca9e2e5249e674b29a38311526d21
DTSTAMP:20260422T125651Z
SUMMARY:Women's Philanthropy Cabinet
DESCRIPTION:Jewish Long Beach\nCalendar\nhttps://jewishlongbeach.org/calend
 ar/womens-philanthropy-cabinet-03-14\n\nWomen's Philanthropy Cabinet
DTSTART;TZID=America/Los_Angeles:20180314T183000
DTEND;TZID=America/Los_Angeles:20180314T203000
END:VEVENT
END:VCALENDAR
