BEGIN:VCALENDAR
PRODID:-//eluceo/ical//2.0/EN
VERSION:2.0
CALSCALE:GREGORIAN
BEGIN:VEVENT
UID:35ed5fb3863b3cb3ad41fbafd15c39a1
DTSTAMP:20260422T182036Z
SUMMARY:Women's Philanthropy Cabinet
DESCRIPTION:Jewish Long Beach\nCalendar\nhttps://jewishlongbeach.org/calend
 ar/womens-philanthropy-cabinet-05-09\n\nWomen's Philanthropy Cabinet
DTSTART;TZID=America/Los_Angeles:20180509T183000
DTEND;TZID=America/Los_Angeles:20180509T203000
END:VEVENT
END:VCALENDAR
