BEGIN:VCALENDAR
PRODID:-//eluceo/ical//2.0/EN
VERSION:2.0
CALSCALE:GREGORIAN
BEGIN:VEVENT
UID:9e62ff73ea8f9a9f3852b19454ec6d10
DTSTAMP:20260422T043008Z
SUMMARY:Women's Philanthropy Cabinet
DESCRIPTION:Jewish Long Beach\nCalendar\nhttps://jewishlongbeach.org/calend
 ar/womens-philanthropy-cabinet2\n\nWomen's Philanthropy Cabinet
DTSTART;TZID=America/Los_Angeles:20151014T173000
DTEND;TZID=America/Los_Angeles:20151014T193000
END:VEVENT
END:VCALENDAR
