BEGIN:VCALENDAR
PRODID:-//eluceo/ical//2.0/EN
VERSION:2.0
CALSCALE:GREGORIAN
BEGIN:VEVENT
UID:6cddba1563493a96511ec755edb49632
DTSTAMP:20260419T164916Z
SUMMARY:Women's Philanthropy Shabbat Meals on Wheels
DESCRIPTION:Jewish Long Beach\nCalendar\nhttps://jewishlongbeach.org/calend
 ar/womens-philanthropy-shabbat-meals-on-wheels\n\nWomen's Philanthropy Sha
 bbat Meals on Wheels
DTSTART;TZID=America/Los_Angeles:20171103T160000
DTEND;TZID=America/Los_Angeles:20171103T180000
END:VEVENT
END:VCALENDAR
