BEGIN:VCALENDAR
PRODID:-//eluceo/ical//2.0/EN
VERSION:2.0
CALSCALE:GREGORIAN
BEGIN:VEVENT
UID:74a0ad6ee99eaff63ef9d11a4da32717
DTSTAMP:20260425T023401Z
SUMMARY:AJCC Annual Jewish Film Festival
DESCRIPTION:Jewish Long Beach\nCalendar\nhttps://jewishlongbeach.org/calend
 ar/wwwalpertjccorghours\n\nOur annual Jewish Film Festival brings you five
  great Jewish-themed films from all over the world. \n\n$12 per film/ $5 
 for students. Passes available for $50\n\n 
DTSTART;TZID=America/Los_Angeles:20181107T190000
DTEND;TZID=America/Los_Angeles:20181111T160000
END:VEVENT
END:VCALENDAR
