BEGIN:VCALENDAR
PRODID:-//eluceo/ical//2.0/EN
VERSION:2.0
CALSCALE:GREGORIAN
BEGIN:VEVENT
UID:a9dd84c5f926b320f654b9a44983e8ec
DTSTAMP:20260424T111451Z
SUMMARY:Yom HaAtzma’ut
DESCRIPTION:Jewish Long Beach\nCalendar\nhttps://jewishlongbeach.org/calend
 ar/yom-haatzmaut2026-489033\n\n
DTSTART;TZID=America/Los_Angeles:20260422T000000
DTEND;TZID=America/Los_Angeles:20260422T235959
END:VEVENT
END:VCALENDAR
