BEGIN:VCALENDAR
PRODID:-//eluceo/ical//2.0/EN
VERSION:2.0
CALSCALE:GREGORIAN
BEGIN:VEVENT
UID:58740545a236c008a892862a1991da78
DTSTAMP:20260424T071753Z
SUMMARY:Yom HaShoah Community Observance
DESCRIPTION:Jewish Long Beach\nCalendar\nhttps://jewishlongbeach.org/calend
 ar/yom-hashoah-community-observance\n\nHolocaust Memorial Service coordina
 ted by Rabbi Nancy Myers with Special guest speaker Yetta Kane.
DTSTART;TZID=America/Los_Angeles:20190505T140000
DTEND;TZID=America/Los_Angeles:20190505T160000
END:VEVENT
END:VCALENDAR
