BEGIN:VCALENDAR
PRODID:-//eluceo/ical//2.0/EN
VERSION:2.0
CALSCALE:GREGORIAN
BEGIN:VEVENT
UID:ed44df6df7e20b4fdad3cf006c049eaa
DTSTAMP:20260420T093318Z
SUMMARY:Yom HaShoah Community Observance
DESCRIPTION:Jewish Long Beach\nCalendar\nhttps://jewishlongbeach.org/calend
 ar/yom-hashoah-community-observance-1677692452\n\nJoin the AJCC in honorin
 g Holocaust Remembrance Day.\n\nWe will be starting with a youth education
  program for grades 7 and up at 10 AM.\n\nThe Community Observance will be
 gin at 11 AM with Rabbi Cassi Kail of Temple Beth El\, joined by local cle
 rgy and students. The observance is free to attend and all are welcome. RS
 VP is required.
DTSTART;TZID=America/Los_Angeles:20230423T110000
DTEND;TZID=America/Los_Angeles:20230423T120000
END:VEVENT
END:VCALENDAR
