BEGIN:VCALENDAR
PRODID:-//eluceo/ical//2.0/EN
VERSION:2.0
CALSCALE:GREGORIAN
BEGIN:VEVENT
UID:fcc922c434040d85a85e9c8b82cf8597
DTSTAMP:20260421T232205Z
SUMMARY:Yom HaZikaron
DESCRIPTION:Jewish Long Beach\nCalendar\nhttps://jewishlongbeach.org/calend
 ar/yom-hazikaron2026-489031\n\n
DTSTART;TZID=America/Los_Angeles:20260421T000000
DTEND;TZID=America/Los_Angeles:20260421T235959
END:VEVENT
END:VCALENDAR
