BEGIN:VCALENDAR
PRODID:-//eluceo/ical//2.0/EN
VERSION:2.0
CALSCALE:GREGORIAN
BEGIN:VEVENT
UID:e3317b93cec42179c4e440b99bb48814
DTSTAMP:20260422T125038Z
SUMMARY:Young Adults & Professionals Thanksgiving Shabbat
DESCRIPTION:Jewish Long Beach\nCalendar\nhttps://jewishlongbeach.org/calend
 ar/young-adults--professionals-thanksgiving-shabbat-1667949165\n\nJoin wit
 h other local Jewish young adults for a delicious and festive Thanksgiving
  Shabbat Dinner in the Bixby Knolls neighborhood of Long Beach!
DTSTART;TZID=America/Los_Angeles:20221118T190000
DTEND;TZID=America/Los_Angeles:20221118T210000
END:VEVENT
END:VCALENDAR
