BEGIN:VCALENDAR
PRODID:-//eluceo/ical//2.0/EN
VERSION:2.0
CALSCALE:GREGORIAN
BEGIN:VEVENT
UID:30d218e6087eb599a30c8fcb6c6ab03f
DTSTAMP:20260419T213417Z
SUMMARY:Evelyn Linden Baldwin Youth Creative Writing Contest
DESCRIPTION:Jewish Long Beach\nCalendar\nhttps://jewishlongbeach.org/calend
 ar/youth-writing25\n\nSubmission Deadline: November 10\, 5 PM\nOpen to Gra
 des 6 – 12 in Greater Long Beach-area schools\nEntries: Original reflect
 ive essays\, poetry\, short stories\, or graphic novels up to 1\,000 words
 \nAwards Reception: December 18 at the Alpert JCC\nPrize: 1st place ($250)
 \, 2nd place ($100)\n\n📝CLICK HERE TO SUBMIT YOUR WORK \n\nNote: All s
 ubmissions are judged blindly. Do not include your name or grade in your s
 ubmission or file name.\n\n \n\nPrompt: “Light Up the Community—One A
 ct of K...
DTSTART;TZID=America/Los_Angeles:20251110T170000
DTEND;TZID=America/Los_Angeles:20251110T170000
END:VEVENT
END:VCALENDAR
