BEGIN:VCALENDAR
PRODID:-//eluceo/ical//2.0/EN
VERSION:2.0
CALSCALE:GREGORIAN
BEGIN:VEVENT
UID:707623915c611e53a4f6a1b6f2a97efe
DTSTAMP:20260425T201535Z
SUMMARY:Selichot Services - Congregation Shir Chadash
DESCRIPTION:Jewish Long Beach\nHigh Holy Days Calendar\nhttps://jewishlongb
 each.org/high-holy-days-calendar/selichot-services-congregation-shir-chada
 sh\n\nJoin Congregation Shir Chadash for Selichot Services.
DTSTART;TZID=America/Los_Angeles:20200912T200000
DTEND;TZID=America/Los_Angeles:20200912T210000
END:VEVENT
END:VCALENDAR
